BEGIN:VCALENDAR
PRODID:-//eluceo/ical//2.0/EN
VERSION:2.0
CALSCALE:GREGORIAN
BEGIN:VEVENT
UID:4e2235c1d2ed77f75525064c2ac3c083
DTSTAMP:20260423T072416Z
SUMMARY:Service Public
DESCRIPTION:Sito web: http://www.weinstube.li\nRelatore/i: Doris Quaderer\,
  StiftungZukunft.li
URL:https://liechtenstein-eschnerberg.rotary2000.ch/it/agenda/show/131665
DTSTART;TZID=Europe/Zurich:20210903T121500
DTEND;TZID=Europe/Zurich:20210903T134500
LOCATION:Restaurant Weinstube (Club-Meeting)\, Churer Strasse 10\, 9485 Nen
 deln\, FL
CATEGORIES:Rotary
END:VEVENT
BEGIN:VTIMEZONE
TZID:Europe/Zurich
BEGIN:DAYLIGHT
DTSTART:20210903T121500
TZNAME:CEST
TZOFFSETTO:+0200
TZOFFSETFROM:+0200
END:DAYLIGHT
END:VTIMEZONE
END:VCALENDAR
