BEGIN:VCALENDAR
PRODID:-//eluceo/ical//2.0/EN
VERSION:2.0
CALSCALE:GREGORIAN
BEGIN:VEVENT
UID:2ade2a6595b6efd18dd5ea801ed91d2e
DTSTAMP:20260424T112124Z
SUMMARY:Gala-Abend «La grande final»
DESCRIPTION:Webseite: https://www.kommod.li/de/
URL:https://liechtenstein-eschnerberg.rotary2000.ch/de/agenda/show/211437
DTSTART;TZID=Europe/Zurich:20260611T183000
DTEND;TZID=Europe/Zurich:20260611T233000
LOCATION:Dachterrasse Kommod\, Industriering 14\, 9491 Ruggell
CATEGORIES:Rotary
END:VEVENT
BEGIN:VTIMEZONE
TZID:Europe/Zurich
BEGIN:DAYLIGHT
DTSTART:20260611T183000
TZNAME:CEST
TZOFFSETTO:+0200
TZOFFSETFROM:+0200
END:DAYLIGHT
END:VTIMEZONE
END:VCALENDAR
